BEGIN:VCALENDAR
VERSION:2.0
PRODID:icalendar-ruby
CALSCALE:GREGORIAN
METHOD:PUBLISH
BEGIN:VEVENT
DTSTAMP:20260424T190446Z
UID:6-1821890@rbcor.org
DTSTART:20261021T220000Z
DTEND:20261021T230000Z
CLASS:PUBLIC
CREATED:20260424T132005
DESCRIPTION:Prayer Gathering
LAST-MODIFIED:20260424T132005
LOCATION:Gathering Place
SUMMARY:Prayer Gathering
URL;VALUE=URI:https://rbcor.org/events/prayer-gathering/2026-10-21
ATTACH;FILENAME=4cj9.jpg;FMTTYPE=image/jpeg:https://dq5pwpg1q8ru0.cloudfron
 t.net/2022/07/25/12/29/55/ebde519c-7df0-4eb7-b38c-4ea1bde939c0/4cj9.jpg
END:VEVENT
END:VCALENDAR
